BEGIN:VCALENDAR
VERSION:2.0
PRODID:-//horsealert.local//NONSGML kigkonsult.se iCalcreator 2.10.5//
CALSCALE:GREGORIAN
X-WR-TIMEZONE:Europe/Dublin
BEGIN:VTIMEZONE
TZID:Etc/GMT-1
BEGIN:STANDARD
DTSTART:20010101T000000
TZOFFSETFROM:+0100
TZOFFSETTO:+0100
TZNAME:GMT +01:00
END:STANDARD
END:VTIMEZONE
BEGIN:VEVENT
UID:20260422T211304CEST-4319LRm58V@horsealert.local
DTSTAMP:20260422T190404Z
CATEGORIES:Horse Alerts
DESCRIPTION:newarkfestival.co.uk Handicap Hurdle
DTSTART:20160524T193500
LOCATION:England
SUMMARY:Horse Racing:newarkfestival.co.uk Handicap Hurdle
END:VEVENT
END:VCALENDAR
