BEGIN:VCALENDAR
VERSION:2.0
PRODID:-//horsealert.local//NONSGML kigkonsult.se iCalcreator 2.10.5//
CALSCALE:GREGORIAN
X-WR-TIMEZONE:Europe/Dublin
BEGIN:VTIMEZONE
TZID:Etc/GMT-1
BEGIN:STANDARD
DTSTART:20010101T000000
TZOFFSETFROM:+0100
TZOFFSETTO:+0100
TZNAME:GMT +01:00
END:STANDARD
END:VTIMEZONE
BEGIN:VEVENT
UID:20260422T210930CEST-3938T8s1gw@horsealert.local
DTSTAMP:20260422T190430Z
CATEGORIES:Horse Alerts
DESCRIPTION:D'arles Listed Hurdle
DTSTART:20160522T155500
LOCATION:France
SUMMARY:Horse Racing:D'arles Listed Hurdle
END:VEVENT
END:VCALENDAR
