BEGIN:VCALENDAR
VERSION:2.0
PRODID:-//horsealert.local//NONSGML kigkonsult.se iCalcreator 2.10.5//
CALSCALE:GREGORIAN
X-WR-TIMEZONE:Europe/Dublin
BEGIN:VTIMEZONE
TZID:Etc/GMT-1
BEGIN:STANDARD
DTSTART:20010101T000000
TZOFFSETFROM:+0100
TZOFFSETTO:+0100
TZNAME:GMT +01:00
END:STANDARD
END:VTIMEZONE
BEGIN:VEVENT
UID:20260422T211340CEST-69637safnJ@horsealert.local
DTSTAMP:20260422T190440Z
CATEGORIES:Horse Alerts
DESCRIPTION:Safe Bet DG Taxis 01159500500 Handicap
DTSTART:20160522T180500
LOCATION:England
SUMMARY:Horse Racing:Safe Bet DG Taxis 01159500500 Handicap
END:VEVENT
END:VCALENDAR
