BEGIN:VCALENDAR
VERSION:2.0
PRODID:-//horsealert.local//NONSGML kigkonsult.se iCalcreator 2.10.5//
CALSCALE:GREGORIAN
X-WR-TIMEZONE:Europe/Dublin
BEGIN:VTIMEZONE
TZID:Etc/GMT-1
BEGIN:STANDARD
DTSTART:20010101T000000
TZOFFSETFROM:+0100
TZOFFSETTO:+0100
TZNAME:GMT +01:00
END:STANDARD
END:VTIMEZONE
BEGIN:VEVENT
UID:20260422T211220CEST-3971DI42NC@horsealert.local
DTSTAMP:20260422T190420Z
CATEGORIES:Horse Alerts
DESCRIPTION:Technicair Airconditioning Handicap Chase (For The Gambling Pri
 nce Trophy)
DTSTART:20160521T193500
LOCATION:England
SUMMARY:Horse Racing:Technicair Airconditioning Handicap Chase (For The Gam
 bling Prince Trophy)
END:VEVENT
END:VCALENDAR
