BEGIN:VCALENDAR
VERSION:2.0
PRODID:-//horsealert.local//NONSGML kigkonsult.se iCalcreator 2.10.5//
CALSCALE:GREGORIAN
X-WR-TIMEZONE:Europe/Dublin
BEGIN:VTIMEZONE
TZID:Etc/GMT-1
BEGIN:STANDARD
DTSTART:20010101T000000
TZOFFSETFROM:+0100
TZOFFSETTO:+0100
TZNAME:GMT +01:00
END:STANDARD
END:VTIMEZONE
BEGIN:VEVENT
UID:20260422T211220CEST-8382Ak5vTR@horsealert.local
DTSTAMP:20260422T190420Z
CATEGORIES:Horse Alerts
DESCRIPTION:Pertemps Network Stratford Foxhunters Champion Hunters' Chase (
 The 58th Running)
DTSTART:20160520T195000
LOCATION:England
SUMMARY:Horse Racing:Pertemps Network Stratford Foxhunters Champion Hunters
 ' Chase (The 58th Running)
END:VEVENT
END:VCALENDAR
