BEGIN:VCALENDAR
VERSION:2.0
PRODID:-//horsealert.local//NONSGML kigkonsult.se iCalcreator 2.10.5//
CALSCALE:GREGORIAN
X-WR-TIMEZONE:Europe/Dublin
BEGIN:VTIMEZONE
TZID:Etc/GMT-1
BEGIN:STANDARD
DTSTART:20010101T000000
TZOFFSETFROM:+0100
TZOFFSETTO:+0100
TZNAME:GMT +01:00
END:STANDARD
END:VTIMEZONE
BEGIN:VEVENT
UID:20260422T210815CEST-0731JoX5Ux@horsealert.local
DTSTAMP:20260422T190415Z
CATEGORIES:Horse Alerts
DESCRIPTION:AGA Ladies Open Point-To-Point Championship Final (Hunters' Cha
 se For Lady Riders)
DTSTART:20160520T191500
LOCATION:England
SUMMARY:Horse Racing:AGA Ladies Open Point-To-Point Championship Final (Hun
 ters' Chase For Lady Riders)
END:VEVENT
END:VCALENDAR
