BEGIN:VCALENDAR
VERSION:2.0
PRODID:-//horsealert.local//NONSGML kigkonsult.se iCalcreator 2.10.5//
CALSCALE:GREGORIAN
X-WR-TIMEZONE:Europe/Dublin
BEGIN:VTIMEZONE
TZID:Etc/GMT-1
BEGIN:STANDARD
DTSTART:20010101T000000
TZOFFSETFROM:+0100
TZOFFSETTO:+0100
TZNAME:GMT +01:00
END:STANDARD
END:VTIMEZONE
BEGIN:VEVENT
UID:20260422T211217CEST-4637VJTgwp@horsealert.local
DTSTAMP:20260422T190417Z
CATEGORIES:Horse Alerts
DESCRIPTION:Leslie Petch Fillies' Handicap (2016 Catterick Twelve Furlong S
 eries Qualifier)
DTSTART:20160520T201000
LOCATION:England
SUMMARY:Horse Racing:Leslie Petch Fillies' Handicap (2016 Catterick Twelve 
 Furlong Series Qualifier)
END:VEVENT
END:VCALENDAR
