BEGIN:VCALENDAR
VERSION:2.0
PRODID:-//horsealert.local//NONSGML kigkonsult.se iCalcreator 2.10.5//
CALSCALE:GREGORIAN
X-WR-TIMEZONE:Europe/Dublin
BEGIN:VTIMEZONE
TZID:Etc/GMT-1
BEGIN:STANDARD
DTSTART:20010101T000000
TZOFFSETFROM:+0100
TZOFFSETTO:+0100
TZNAME:GMT +01:00
END:STANDARD
END:VTIMEZONE
BEGIN:VEVENT
UID:20260422T211307CEST-7093skVnP4@horsealert.local
DTSTAMP:20260422T190407Z
CATEGORIES:Horse Alerts
DESCRIPTION:Euro 2016 Expert Tips At bookies.com Maiden Fillies' Stakes
DTSTART:20160520T154000
LOCATION:England
SUMMARY:Horse Racing:Euro 2016 Expert Tips At bookies.com Maiden Fillies' S
 takes
END:VEVENT
END:VCALENDAR
