BEGIN:VCALENDAR
VERSION:2.0
PRODID:-//horsealert.local//NONSGML kigkonsult.se iCalcreator 2.10.5//
CALSCALE:GREGORIAN
X-WR-TIMEZONE:Europe/Dublin
BEGIN:VTIMEZONE
TZID:Etc/GMT-1
BEGIN:STANDARD
DTSTART:20010101T000000
TZOFFSETFROM:+0100
TZOFFSETTO:+0100
TZNAME:GMT +01:00
END:STANDARD
END:VTIMEZONE
BEGIN:VEVENT
UID:20260422T211227CEST-89081dSuvb@horsealert.local
DTSTAMP:20260422T190427Z
CATEGORIES:Horse Alerts
DESCRIPTION:Follow Us On Facebook Handicap (50-80)
DTSTART:20160517T202000
LOCATION:Eire
SUMMARY:Horse Racing:Follow Us On Facebook Handicap (50-80)
END:VEVENT
END:VCALENDAR
