BEGIN:VCALENDAR
VERSION:2.0
PRODID:-//horsealert.local//NONSGML kigkonsult.se iCalcreator 2.10.5//
CALSCALE:GREGORIAN
X-WR-TIMEZONE:Europe/Dublin
BEGIN:VTIMEZONE
TZID:Etc/GMT-1
BEGIN:STANDARD
DTSTART:20010101T000000
TZOFFSETFROM:+0100
TZOFFSETTO:+0100
TZNAME:GMT +01:00
END:STANDARD
END:VTIMEZONE
BEGIN:VEVENT
UID:20260422T210911CEST-7288E3eSh2@horsealert.local
DTSTAMP:20260422T190411Z
CATEGORIES:Horse Alerts
DESCRIPTION:Congratulations On Promotion Middlesbrough FC UTB Novice Median
  Auction Stakes
DTSTART:20160516T135000
LOCATION:England
SUMMARY:Horse Racing:Congratulations On Promotion Middlesbrough FC UTB Novi
 ce Median Auction Stakes
END:VEVENT
END:VCALENDAR
