BEGIN:VCALENDAR
VERSION:2.0
PRODID:-//horsealert.local//NONSGML kigkonsult.se iCalcreator 2.10.5//
CALSCALE:GREGORIAN
X-WR-TIMEZONE:Europe/Dublin
BEGIN:VTIMEZONE
TZID:Etc/GMT-1
BEGIN:STANDARD
DTSTART:20010101T000000
TZOFFSETFROM:+0100
TZOFFSETTO:+0100
TZNAME:GMT +01:00
END:STANDARD
END:VTIMEZONE
BEGIN:VEVENT
UID:20260422T212307CEST-7665R5jsWk@horsealert.local
DTSTAMP:20260422T190407Z
CATEGORIES:Horse Alerts
DESCRIPTION:Avon Caravan Park Handicap Hurdle (For The Charles Lea Memorial
  Trophy)
DTSTART:20160515T160000
LOCATION:England
SUMMARY:Horse Racing:Avon Caravan Park Handicap Hurdle (For The Charles Lea
  Memorial Trophy)
END:VEVENT
END:VCALENDAR
