BEGIN:VCALENDAR
VERSION:2.0
PRODID:-//horsealert.local//NONSGML kigkonsult.se iCalcreator 2.10.5//
CALSCALE:GREGORIAN
X-WR-TIMEZONE:Europe/Dublin
BEGIN:VTIMEZONE
TZID:Etc/GMT-1
BEGIN:STANDARD
DTSTART:20010101T000000
TZOFFSETFROM:+0100
TZOFFSETTO:+0100
TZNAME:GMT +01:00
END:STANDARD
END:VTIMEZONE
BEGIN:VEVENT
UID:20260423T002330CEST-0112MAVtwO@horsealert.local
DTSTAMP:20260422T220430Z
CATEGORIES:Horse Alerts
DESCRIPTION:Radcliffe Golf Club Stewards Of The Year Handicap Hurdle
DTSTART:20160515T144000
LOCATION:England
SUMMARY:Horse Racing:Radcliffe Golf Club Stewards Of The Year Handicap Hurd
 le
END:VEVENT
END:VCALENDAR
