BEGIN:VCALENDAR
VERSION:2.0
PRODID:-//horsealert.local//NONSGML kigkonsult.se iCalcreator 2.10.5//
CALSCALE:GREGORIAN
X-WR-TIMEZONE:Europe/Dublin
BEGIN:VTIMEZONE
TZID:Etc/GMT-1
BEGIN:STANDARD
DTSTART:20010101T000000
TZOFFSETFROM:+0100
TZOFFSETTO:+0100
TZNAME:GMT +01:00
END:STANDARD
END:VTIMEZONE
BEGIN:VEVENT
UID:20260422T211341CEST-8209r0CiPZ@horsealert.local
DTSTAMP:20260422T190441Z
CATEGORIES:Horse Alerts
DESCRIPTION:Follow Your Bets Now At corbettsports.com 'National Hunt' Maide
 n Hurdle
DTSTART:20160514T150500
LOCATION:Wales
SUMMARY:Horse Racing:Follow Your Bets Now At corbettsports.com 'National Hu
 nt' Maiden Hurdle
END:VEVENT
END:VCALENDAR
