BEGIN:VCALENDAR
VERSION:2.0
PRODID:-//horsealert.local//NONSGML kigkonsult.se iCalcreator 2.10.5//
CALSCALE:GREGORIAN
X-WR-TIMEZONE:Europe/Dublin
BEGIN:VTIMEZONE
TZID:Etc/GMT-1
BEGIN:STANDARD
DTSTART:20010101T000000
TZOFFSETFROM:+0100
TZOFFSETTO:+0100
TZNAME:GMT +01:00
END:STANDARD
END:VTIMEZONE
BEGIN:VEVENT
UID:20260422T211352CEST-1833TmaPW3@horsealert.local
DTSTAMP:20260422T190452Z
CATEGORIES:Horse Alerts
DESCRIPTION:Calculate Your Bet Winnings At aceodds.com Mares' Handicap Hurd
 le
DTSTART:20160514T180000
LOCATION:England
SUMMARY:Horse Racing:Calculate Your Bet Winnings At aceodds.com Mares' Hand
 icap Hurdle
END:VEVENT
END:VCALENDAR
