BEGIN:VCALENDAR
VERSION:2.0
PRODID:-//horsealert.local//NONSGML kigkonsult.se iCalcreator 2.10.5//
CALSCALE:GREGORIAN
X-WR-TIMEZONE:Europe/Dublin
BEGIN:VTIMEZONE
TZID:Etc/GMT-1
BEGIN:STANDARD
DTSTART:20010101T000000
TZOFFSETFROM:+0100
TZOFFSETTO:+0100
TZNAME:GMT +01:00
END:STANDARD
END:VTIMEZONE
BEGIN:VEVENT
UID:20260422T211231CEST-8984eSvX78@horsealert.local
DTSTAMP:20260422T190431Z
CATEGORIES:Horse Alerts
DESCRIPTION:justgiving.com/marcia-sanderson For Macmillan Maiden Stakes
DTSTART:20160514T171000
LOCATION:England
SUMMARY:Horse Racing:justgiving.com/marcia-sanderson For Macmillan Maiden S
 takes
END:VEVENT
END:VCALENDAR
