BEGIN:VCALENDAR
VERSION:2.0
PRODID:-//horsealert.local//NONSGML kigkonsult.se iCalcreator 2.10.5//
CALSCALE:GREGORIAN
X-WR-TIMEZONE:Europe/Dublin
BEGIN:VTIMEZONE
TZID:Etc/GMT-1
BEGIN:STANDARD
DTSTART:20010101T000000
TZOFFSETFROM:+0100
TZOFFSETTO:+0100
TZNAME:GMT +01:00
END:STANDARD
END:VTIMEZONE
BEGIN:VEVENT
UID:20260422T210726CEST-0726u0Fh3W@horsealert.local
DTSTAMP:20260422T190426Z
CATEGORIES:Horse Alerts
DESCRIPTION:Sky Bet Royal Windsor Sprint Series Handicap (Qualifier For The
  Windsor Sprint Series)
DTSTART:20160509T185000
LOCATION:England
SUMMARY:Horse Racing:Sky Bet Royal Windsor Sprint Series Handicap (Qualifie
 r For The Windsor Sprint Series)
END:VEVENT
END:VCALENDAR
