BEGIN:VCALENDAR
VERSION:2.0
PRODID:-//horsealert.local//NONSGML kigkonsult.se iCalcreator 2.10.5//
CALSCALE:GREGORIAN
X-WR-TIMEZONE:Europe/Dublin
BEGIN:VTIMEZONE
TZID:Etc/GMT-1
BEGIN:STANDARD
DTSTART:20010101T000000
TZOFFSETFROM:+0100
TZOFFSETTO:+0100
TZNAME:GMT +01:00
END:STANDARD
END:VTIMEZONE
BEGIN:VEVENT
UID:20260422T210413CEST-078410svF6@horsealert.local
DTSTAMP:20260422T190413Z
CATEGORIES:Horse Alerts
DESCRIPTION:Lewis Badges 1832 Conditional Jockeys' Handicap Chase
DTSTART:20160507T195000
LOCATION:England
SUMMARY:Horse Racing:Lewis Badges 1832 Conditional Jockeys' Handicap Chase
END:VEVENT
END:VCALENDAR
