BEGIN:VCALENDAR
VERSION:2.0
PRODID:-//horsealert.local//NONSGML kigkonsult.se iCalcreator 2.10.5//
CALSCALE:GREGORIAN
X-WR-TIMEZONE:Europe/Dublin
BEGIN:VTIMEZONE
TZID:Etc/GMT-1
BEGIN:STANDARD
DTSTART:20010101T000000
TZOFFSETFROM:+0100
TZOFFSETTO:+0100
TZNAME:GMT +01:00
END:STANDARD
END:VTIMEZONE
BEGIN:VEVENT
UID:20260422T210241CEST-33145jHkFo@horsealert.local
DTSTAMP:20260422T190441Z
CATEGORIES:Horse Alerts
DESCRIPTION:Hen And Stag Parties At Wexford Racecourse Median Auction Filli
 es Maiden
DTSTART:20160507T140500
LOCATION:Eire
SUMMARY:Horse Racing:Hen And Stag Parties At Wexford Racecourse Median Auct
 ion Fillies Maiden
END:VEVENT
END:VCALENDAR
