BEGIN:VCALENDAR
VERSION:2.0
PRODID:-//horsealert.local//NONSGML kigkonsult.se iCalcreator 2.10.5//
CALSCALE:GREGORIAN
X-WR-TIMEZONE:Europe/Dublin
BEGIN:VTIMEZONE
TZID:Etc/GMT-1
BEGIN:STANDARD
DTSTART:20010101T000000
TZOFFSETFROM:+0100
TZOFFSETTO:+0100
TZNAME:GMT +01:00
END:STANDARD
END:VTIMEZONE
BEGIN:VEVENT
UID:20260422T211025CEST-0598rXFkW9@horsealert.local
DTSTAMP:20260422T190425Z
CATEGORIES:Horse Alerts
DESCRIPTION:I.T.B.A. N.H. Fillies Bonus Scheme E.B.F. Mares Flat Race
DTSTART:20160506T201500
LOCATION:Eire
SUMMARY:Horse Racing:I.T.B.A. N.H. Fillies Bonus Scheme E.B.F. Mares Flat R
 ace
END:VEVENT
END:VCALENDAR
