BEGIN:VCALENDAR
VERSION:2.0
PRODID:-//horsealert.local//NONSGML kigkonsult.se iCalcreator 2.10.5//
CALSCALE:GREGORIAN
X-WR-TIMEZONE:Europe/Dublin
BEGIN:VTIMEZONE
TZID:Etc/GMT-1
BEGIN:STANDARD
DTSTART:20010101T000000
TZOFFSETFROM:+0100
TZOFFSETTO:+0100
TZNAME:GMT +01:00
END:STANDARD
END:VTIMEZONE
BEGIN:VEVENT
UID:20260422T210427CEST-4012UGPdeA@horsealert.local
DTSTAMP:20260422T190427Z
CATEGORIES:Horse Alerts
DESCRIPTION:Go Racing In Yorkshire Summer Festival 16th - 24th July Novices
 ' Handicap Hurdle
DTSTART:20160504T193000
LOCATION:England
SUMMARY:Horse Racing:Go Racing In Yorkshire Summer Festival 16th - 24th Jul
 y Novices' Handicap Hurdle
END:VEVENT
END:VCALENDAR
