BEGIN:VCALENDAR
VERSION:2.0
PRODID:-//horsealert.local//NONSGML kigkonsult.se iCalcreator 2.10.5//
CALSCALE:GREGORIAN
X-WR-TIMEZONE:Europe/Dublin
BEGIN:VTIMEZONE
TZID:Etc/GMT-1
BEGIN:STANDARD
DTSTART:20010101T000000
TZOFFSETFROM:+0100
TZOFFSETTO:+0100
TZNAME:GMT +01:00
END:STANDARD
END:VTIMEZONE
BEGIN:VEVENT
UID:20260422T210428CEST-0409xl1Gwn@horsealert.local
DTSTAMP:20260422T190428Z
CATEGORIES:Horse Alerts
DESCRIPTION:Arkle Finance Cheshire Oaks (Fillies' Listed) (For The Robert S
 angster Memorial Cup)
DTSTART:20160504T144000
LOCATION:England
SUMMARY:Horse Racing:Arkle Finance Cheshire Oaks (Fillies' Listed) (For The
  Robert Sangster Memorial Cup)
END:VEVENT
END:VCALENDAR
