BEGIN:VCALENDAR
VERSION:2.0
PRODID:-//horsealert.local//NONSGML kigkonsult.se iCalcreator 2.10.5//
CALSCALE:GREGORIAN
X-WR-TIMEZONE:Europe/Dublin
BEGIN:VTIMEZONE
TZID:Etc/GMT-1
BEGIN:STANDARD
DTSTART:20010101T000000
TZOFFSETFROM:+0100
TZOFFSETTO:+0100
TZNAME:GMT +01:00
END:STANDARD
END:VTIMEZONE
BEGIN:VEVENT
UID:20260422T223920CEST-1252fRc9zh@horsealert.local
DTSTAMP:20260422T200420Z
CATEGORIES:Horse Alerts
DESCRIPTION:Madra Irish Dog Foods Handicap Chase (0-145)
DTSTART:20160430T151000
LOCATION:Eire
SUMMARY:Horse Racing:Madra Irish Dog Foods Handicap Chase (0-145)
END:VEVENT
END:VCALENDAR
