BEGIN:VCALENDAR
VERSION:2.0
PRODID:-//horsealert.local//NONSGML kigkonsult.se iCalcreator 2.10.5//
CALSCALE:GREGORIAN
X-WR-TIMEZONE:Europe/Dublin
BEGIN:VTIMEZONE
TZID:Etc/GMT-1
BEGIN:STANDARD
DTSTART:20010101T000000
TZOFFSETFROM:+0100
TZOFFSETTO:+0100
TZNAME:GMT +01:00
END:STANDARD
END:VTIMEZONE
BEGIN:VEVENT
UID:20260422T223908CEST-3910HrZKvv@horsealert.local
DTSTAMP:20260422T200408Z
CATEGORIES:Horse Alerts
DESCRIPTION:Hanlon Concrete E.B.F. Glencarraig Lady Mares Handicap Chase (G
 rade C)
DTSTART:20160429T165500
LOCATION:Eire
SUMMARY:Horse Racing:Hanlon Concrete E.B.F. Glencarraig Lady Mares Handicap
  Chase (Grade C)
END:VEVENT
END:VCALENDAR
