BEGIN:VCALENDAR
VERSION:2.0
PRODID:-//horsealert.local//NONSGML kigkonsult.se iCalcreator 2.10.5//
CALSCALE:GREGORIAN
X-WR-TIMEZONE:Europe/Dublin
BEGIN:VTIMEZONE
TZID:Etc/GMT-1
BEGIN:STANDARD
DTSTART:20010101T000000
TZOFFSETFROM:+0100
TZOFFSETTO:+0100
TZNAME:GMT +01:00
END:STANDARD
END:VTIMEZONE
BEGIN:VEVENT
UID:20260422T223826CEST-33508NuZkF@horsealert.local
DTSTAMP:20260422T200426Z
CATEGORIES:Horse Alerts
DESCRIPTION:Dribuild Dash Veterans' Handicap (Round 1 of the Chepstow Sprin
 t Series)
DTSTART:20160429T152500
LOCATION:Wales
SUMMARY:Horse Racing:Dribuild Dash Veterans' Handicap (Round 1 of the Cheps
 tow Sprint Series)
END:VEVENT
END:VCALENDAR
