BEGIN:VCALENDAR
VERSION:2.0
PRODID:-//horsealert.local//NONSGML kigkonsult.se iCalcreator 2.10.5//
CALSCALE:GREGORIAN
X-WR-TIMEZONE:Europe/Dublin
BEGIN:VTIMEZONE
TZID:Etc/GMT-1
BEGIN:STANDARD
DTSTART:20010101T000000
TZOFFSETFROM:+0100
TZOFFSETTO:+0100
TZNAME:GMT +01:00
END:STANDARD
END:VTIMEZONE
BEGIN:VEVENT
UID:20260422T223722CEST-2413hSrxCm@horsealert.local
DTSTAMP:20260422T200422Z
CATEGORIES:Horse Alerts
DESCRIPTION:L&S Printing - Official Print Partner Apprentice Handicap
DTSTART:20160426T171500
LOCATION:England
SUMMARY:Horse Racing:L&S Printing - Official Print Partner Apprentice Handi
 cap
END:VEVENT
END:VCALENDAR
