BEGIN:VCALENDAR
VERSION:2.0
PRODID:-//horsealert.local//NONSGML kigkonsult.se iCalcreator 2.10.5//
CALSCALE:GREGORIAN
X-WR-TIMEZONE:Europe/Dublin
BEGIN:VTIMEZONE
TZID:Etc/GMT-1
BEGIN:STANDARD
DTSTART:20010101T000000
TZOFFSETFROM:+0100
TZOFFSETTO:+0100
TZNAME:GMT +01:00
END:STANDARD
END:VTIMEZONE
BEGIN:VEVENT
UID:20260423T002332CEST-5689CIB6H8@horsealert.local
DTSTAMP:20260422T220432Z
CATEGORIES:Horse Alerts
DESCRIPTION:Tote Jackpot Races 3 To 6 Handicap Hurdle (80-95)
DTSTART:20160425T144500
LOCATION:Eire
SUMMARY:Horse Racing:Tote Jackpot Races 3 To 6 Handicap Hurdle (80-95)
END:VEVENT
END:VCALENDAR
