BEGIN:VCALENDAR
VERSION:2.0
PRODID:-//horsealert.local//NONSGML kigkonsult.se iCalcreator 2.10.5//
CALSCALE:GREGORIAN
X-WR-TIMEZONE:Europe/Dublin
BEGIN:VTIMEZONE
TZID:Etc/GMT-1
BEGIN:STANDARD
DTSTART:20010101T000000
TZOFFSETFROM:+0100
TZOFFSETTO:+0100
TZNAME:GMT +01:00
END:STANDARD
END:VTIMEZONE
BEGIN:VEVENT
UID:20260423T053928CEST-13041sxZh2@horsealert.local
DTSTAMP:20260423T030428Z
CATEGORIES:Horse Alerts
DESCRIPTION:Punchestown Betting At 188BET Maiden
DTSTART:20160424T141000
LOCATION:Eire
SUMMARY:Horse Racing:Punchestown Betting At 188BET Maiden
END:VEVENT
END:VCALENDAR
