BEGIN:VCALENDAR
VERSION:2.0
PRODID:-//horsealert.local//NONSGML kigkonsult.se iCalcreator 2.10.5//
CALSCALE:GREGORIAN
X-WR-TIMEZONE:Europe/Dublin
BEGIN:VTIMEZONE
TZID:Etc/GMT-1
BEGIN:STANDARD
DTSTART:20010101T000000
TZOFFSETFROM:+0100
TZOFFSETTO:+0100
TZNAME:GMT +01:00
END:STANDARD
END:VTIMEZONE
BEGIN:VEVENT
UID:20260422T223757CEST-2301Dk5GOs@horsealert.local
DTSTAMP:20260422T200457Z
CATEGORIES:Horse Alerts
DESCRIPTION:Best Odds Guaranteed At 188BET Claiming Race
DTSTART:20160422T183000
LOCATION:Eire
SUMMARY:Horse Racing:Best Odds Guaranteed At 188BET Claiming Race
END:VEVENT
END:VCALENDAR
