BEGIN:VCALENDAR
VERSION:2.0
PRODID:-//horsealert.local//NONSGML kigkonsult.se iCalcreator 2.10.5//
CALSCALE:GREGORIAN
X-WR-TIMEZONE:Europe/Dublin
BEGIN:VTIMEZONE
TZID:Etc/GMT-1
BEGIN:STANDARD
DTSTART:20010101T000000
TZOFFSETFROM:+0100
TZOFFSETTO:+0100
TZNAME:GMT +01:00
END:STANDARD
END:VTIMEZONE
BEGIN:VEVENT
UID:20260422T223652CEST-0398rb6ZMG@horsealert.local
DTSTAMP:20260422T200452Z
CATEGORIES:Horse Alerts
DESCRIPTION:Close Brothers Crudwell Cup Hunters' Chase (For The Crudwell Ch
 allenge Cup)
DTSTART:20160421T171500
LOCATION:England
SUMMARY:Horse Racing:Close Brothers Crudwell Cup Hunters' Chase (For The Cr
 udwell Challenge Cup)
END:VEVENT
END:VCALENDAR
