BEGIN:VCALENDAR
VERSION:2.0
PRODID:-//horsealert.local//NONSGML kigkonsult.se iCalcreator 2.10.5//
CALSCALE:GREGORIAN
X-WR-TIMEZONE:Europe/Dublin
BEGIN:VTIMEZONE
TZID:Etc/GMT-1
BEGIN:STANDARD
DTSTART:20010101T000000
TZOFFSETFROM:+0100
TZOFFSETTO:+0100
TZNAME:GMT +01:00
END:STANDARD
END:VTIMEZONE
BEGIN:VEVENT
UID:20260422T223829CEST-2630zeSjUU@horsealert.local
DTSTAMP:20260422T200429Z
CATEGORIES:Horse Alerts
DESCRIPTION:Goffs Spring Sales P2P Bumper (Maiden NH Flat Race For Amateur 
 Riders)
DTSTART:20160421T200000
LOCATION:England
SUMMARY:Horse Racing:Goffs Spring Sales P2P Bumper (Maiden NH Flat Race For
  Amateur Riders)
END:VEVENT
END:VCALENDAR
