BEGIN:VCALENDAR
VERSION:2.0
PRODID:-//horsealert.local//NONSGML kigkonsult.se iCalcreator 2.10.5//
CALSCALE:GREGORIAN
X-WR-TIMEZONE:Europe/Dublin
BEGIN:VTIMEZONE
TZID:Etc/GMT-1
BEGIN:STANDARD
DTSTART:20010101T000000
TZOFFSETFROM:+0100
TZOFFSETTO:+0100
TZNAME:GMT +01:00
END:STANDARD
END:VTIMEZONE
BEGIN:VEVENT
UID:20260423T020842CEST-0186P03SNe@horsealert.local
DTSTAMP:20260423T000442Z
CATEGORIES:Horse Alerts
DESCRIPTION:Fundraising Events At Tipperary Races Maiden
DTSTART:20160421T181000
LOCATION:Eire
SUMMARY:Horse Racing:Fundraising Events At Tipperary Races Maiden
END:VEVENT
END:VCALENDAR
