BEGIN:VCALENDAR
VERSION:2.0
PRODID:-//horsealert.local//NONSGML kigkonsult.se iCalcreator 2.10.5//
CALSCALE:GREGORIAN
X-WR-TIMEZONE:Europe/Dublin
BEGIN:VTIMEZONE
TZID:Etc/GMT-1
BEGIN:STANDARD
DTSTART:20010101T000000
TZOFFSETFROM:+0100
TZOFFSETTO:+0100
TZNAME:GMT +01:00
END:STANDARD
END:VTIMEZONE
BEGIN:VEVENT
UID:20260422T223714CEST-5865ohBNLt@horsealert.local
DTSTAMP:20260422T200414Z
CATEGORIES:Horse Alerts
DESCRIPTION:Sussex Cleaning&Care - Official Cleaning Partner Classified Sta
 kes
DTSTART:20160419T192000
LOCATION:England
SUMMARY:Horse Racing:Sussex Cleaning&Care - Official Cleaning Partner Class
 ified Stakes
END:VEVENT
END:VCALENDAR
