BEGIN:VCALENDAR
VERSION:2.0
PRODID:-//horsealert.local//NONSGML kigkonsult.se iCalcreator 2.10.5//
CALSCALE:GREGORIAN
X-WR-TIMEZONE:Europe/Dublin
BEGIN:VTIMEZONE
TZID:Etc/GMT-1
BEGIN:STANDARD
DTSTART:20010101T000000
TZOFFSETFROM:+0100
TZOFFSETTO:+0100
TZNAME:GMT +01:00
END:STANDARD
END:VTIMEZONE
BEGIN:VEVENT
UID:20260423T053929CEST-4986fXUlXz@horsealert.local
DTSTAMP:20260423T030429Z
CATEGORIES:Horse Alerts
DESCRIPTION:Harringtons Lettings - Official Grandstand Sponsor Handicap
DTSTART:20160419T182000
LOCATION:England
SUMMARY:Horse Racing:Harringtons Lettings - Official Grandstand Sponsor Han
 dicap
END:VEVENT
END:VCALENDAR
