BEGIN:VCALENDAR
VERSION:2.0
PRODID:-//horsealert.local//NONSGML kigkonsult.se iCalcreator 2.10.5//
CALSCALE:GREGORIAN
X-WR-TIMEZONE:Europe/Dublin
BEGIN:VTIMEZONE
TZID:Etc/GMT-1
BEGIN:STANDARD
DTSTART:20010101T000000
TZOFFSETFROM:+0100
TZOFFSETTO:+0100
TZNAME:GMT +01:00
END:STANDARD
END:VTIMEZONE
BEGIN:VEVENT
UID:20260422T223612CEST-8362v1WADv@horsealert.local
DTSTAMP:20260422T200412Z
CATEGORIES:Horse Alerts
DESCRIPTION:totepool Racing's Biggest Supporter Hunters' Chase (For The Joh
 n And Nigel Thorne Memorial Cup)
DTSTART:20160417T155500
LOCATION:England
SUMMARY:Horse Racing:totepool Racing's Biggest Supporter Hunters' Chase (Fo
 r The John And Nigel Thorne Memorial Cup)
END:VEVENT
END:VCALENDAR
