BEGIN:VCALENDAR
VERSION:2.0
PRODID:-//horsealert.local//NONSGML kigkonsult.se iCalcreator 2.10.5//
CALSCALE:GREGORIAN
X-WR-TIMEZONE:Europe/Dublin
BEGIN:VTIMEZONE
TZID:Etc/GMT-1
BEGIN:STANDARD
DTSTART:20010101T000000
TZOFFSETFROM:+0100
TZOFFSETTO:+0100
TZNAME:GMT +01:00
END:STANDARD
END:VTIMEZONE
BEGIN:VEVENT
UID:20260422T223729CEST-24794eVHg4@horsealert.local
DTSTAMP:20260422T200429Z
CATEGORIES:Horse Alerts
DESCRIPTION:Ortus Homes Racing Excellence 'Hands And Heels' Finale Handicap
  Hurdle (Conditional/Amateur)
DTSTART:20160416T172000
LOCATION:Scotland
SUMMARY:Horse Racing:Ortus Homes Racing Excellence 'Hands And Heels' Finale
  Handicap Hurdle (Conditional/Amateur)
END:VEVENT
END:VCALENDAR
