BEGIN:VCALENDAR
VERSION:2.0
PRODID:-//horsealert.local//NONSGML kigkonsult.se iCalcreator 2.10.5//
CALSCALE:GREGORIAN
X-WR-TIMEZONE:Europe/Dublin
BEGIN:VTIMEZONE
TZID:Etc/GMT-1
BEGIN:STANDARD
DTSTART:20010101T000000
TZOFFSETFROM:+0100
TZOFFSETTO:+0100
TZNAME:GMT +01:00
END:STANDARD
END:VTIMEZONE
BEGIN:VEVENT
UID:20260422T223752CEST-2091RS48Tz@horsealert.local
DTSTAMP:20260422T200452Z
CATEGORIES:Horse Alerts
DESCRIPTION:Peter Roberts Memorial Handicap
DTSTART:20160414T165500
LOCATION:England
SUMMARY:Horse Racing:Peter Roberts Memorial Handicap
END:VEVENT
END:VCALENDAR
