BEGIN:VCALENDAR
VERSION:2.0
PRODID:-//horsealert.local//NONSGML kigkonsult.se iCalcreator 2.10.5//
CALSCALE:GREGORIAN
X-WR-TIMEZONE:Europe/Dublin
BEGIN:VTIMEZONE
TZID:Etc/GMT-1
BEGIN:STANDARD
DTSTART:20010101T000000
TZOFFSETFROM:+0100
TZOFFSETTO:+0100
TZNAME:GMT +01:00
END:STANDARD
END:VTIMEZONE
BEGIN:VEVENT
UID:20260423T053931CEST-3237Or9as0@horsealert.local
DTSTAMP:20260423T030431Z
CATEGORIES:Horse Alerts
DESCRIPTION:aceodds.com Bet Calculator Maiden Stakes
DTSTART:20160413T140000
LOCATION:England
SUMMARY:Horse Racing:aceodds.com Bet Calculator Maiden Stakes
END:VEVENT
END:VCALENDAR
