BEGIN:VCALENDAR
VERSION:2.0
PRODID:-//horsealert.local//NONSGML kigkonsult.se iCalcreator 2.10.5//
CALSCALE:GREGORIAN
X-WR-TIMEZONE:Europe/Dublin
BEGIN:VTIMEZONE
TZID:Etc/GMT-1
BEGIN:STANDARD
DTSTART:20010101T000000
TZOFFSETFROM:+0100
TZOFFSETTO:+0100
TZNAME:GMT +01:00
END:STANDARD
END:VTIMEZONE
BEGIN:VEVENT
UID:20260422T223711CEST-9632k9LFzm@horsealert.local
DTSTAMP:20260422T200411Z
CATEGORIES:Horse Alerts
DESCRIPTION:Colossus Football Pools Now Available At thetote.com Maiden Hur
 dle
DTSTART:20160411T170500
LOCATION:Eire
SUMMARY:Horse Racing:Colossus Football Pools Now Available At thetote.com M
 aiden Hurdle
END:VEVENT
END:VCALENDAR
