BEGIN:VCALENDAR
VERSION:2.0
PRODID:-//horsealert.local//NONSGML kigkonsult.se iCalcreator 2.10.5//
CALSCALE:GREGORIAN
X-WR-TIMEZONE:Europe/Dublin
BEGIN:VTIMEZONE
TZID:Etc/GMT-1
BEGIN:STANDARD
DTSTART:20010101T000000
TZOFFSETFROM:+0100
TZOFFSETTO:+0100
TZNAME:GMT +01:00
END:STANDARD
END:VTIMEZONE
BEGIN:VEVENT
UID:20260422T223755CEST-4046SujNOo@horsealert.local
DTSTAMP:20260422T200455Z
CATEGORIES:Horse Alerts
DESCRIPTION:Green Tree Hotel Peebles Conditional Jockeys' Handicap Hurdle
DTSTART:20160411T171000
LOCATION:Scotland
SUMMARY:Horse Racing:Green Tree Hotel Peebles Conditional Jockeys' Handicap
  Hurdle
END:VEVENT
END:VCALENDAR
