BEGIN:VCALENDAR
VERSION:2.0
PRODID:-//horsealert.local//NONSGML kigkonsult.se iCalcreator 2.10.5//
CALSCALE:GREGORIAN
X-WR-TIMEZONE:Europe/Dublin
BEGIN:VTIMEZONE
TZID:Etc/GMT-1
BEGIN:STANDARD
DTSTART:20010101T000000
TZOFFSETFROM:+0100
TZOFFSETTO:+0100
TZNAME:GMT +01:00
END:STANDARD
END:VTIMEZONE
BEGIN:VEVENT
UID:20260422T223913CEST-3872h0vmdU@horsealert.local
DTSTAMP:20260422T200413Z
CATEGORIES:Horse Alerts
DESCRIPTION:toteScoop6 Play Today Novices' Hurdle (Div 1)
DTSTART:20160409T141500
LOCATION:Wales
SUMMARY:Horse Racing:toteScoop6 Play Today Novices' Hurdle (Div 1)
END:VEVENT
END:VCALENDAR
