BEGIN:VCALENDAR
VERSION:2.0
PRODID:-//horsealert.local//NONSGML kigkonsult.se iCalcreator 2.10.5//
CALSCALE:GREGORIAN
X-WR-TIMEZONE:Europe/Dublin
BEGIN:VTIMEZONE
TZID:Etc/GMT-1
BEGIN:STANDARD
DTSTART:20010101T000000
TZOFFSETFROM:+0100
TZOFFSETTO:+0100
TZNAME:GMT +01:00
END:STANDARD
END:VTIMEZONE
BEGIN:VEVENT
UID:20260422T223750CEST-1134UPGltH@horsealert.local
DTSTAMP:20260422T200450Z
CATEGORIES:Horse Alerts
DESCRIPTION:Kellier Family And Friends Celebrations International Stakes (L
 isted)
DTSTART:20160409T161500
LOCATION:England
SUMMARY:Horse Racing:Kellier Family And Friends Celebrations International 
 Stakes (Listed)
END:VEVENT
END:VCALENDAR
