BEGIN:VCALENDAR
VERSION:2.0
PRODID:-//horsealert.local//NONSGML kigkonsult.se iCalcreator 2.10.5//
CALSCALE:GREGORIAN
X-WR-TIMEZONE:Europe/Dublin
BEGIN:VTIMEZONE
TZID:Etc/GMT-1
BEGIN:STANDARD
DTSTART:20010101T000000
TZOFFSETFROM:+0100
TZOFFSETTO:+0100
TZNAME:GMT +01:00
END:STANDARD
END:VTIMEZONE
BEGIN:VEVENT
UID:20260423T002328CEST-67028e38Sg@horsealert.local
DTSTAMP:20260422T220428Z
CATEGORIES:Horse Alerts
DESCRIPTION:Pontispool Equine Sports Centre 'Grassroots' Hunters' Chase (Th
 e Mitford-Slade Challenge Trophy)
DTSTART:20160407T170500
LOCATION:England
SUMMARY:Horse Racing:Pontispool Equine Sports Centre 'Grassroots' Hunters' 
 Chase (The Mitford-Slade Challenge Trophy)
END:VEVENT
END:VCALENDAR
