BEGIN:VCALENDAR
VERSION:2.0
PRODID:-//horsealert.local//NONSGML kigkonsult.se iCalcreator 2.10.5//
CALSCALE:GREGORIAN
X-WR-TIMEZONE:Europe/Dublin
BEGIN:VTIMEZONE
TZID:Etc/GMT-1
BEGIN:STANDARD
DTSTART:20010101T000000
TZOFFSETFROM:+0100
TZOFFSETTO:+0100
TZNAME:GMT +01:00
END:STANDARD
END:VTIMEZONE
BEGIN:VEVENT
UID:20260422T223700CEST-79633KHZLi@horsealert.local
DTSTAMP:20260422T200400Z
CATEGORIES:Horse Alerts
DESCRIPTION:Merseyrail Manifesto Novices' Chase (Grade 1)
DTSTART:20160407T134000
LOCATION:England
SUMMARY:Horse Racing:Merseyrail Manifesto Novices' Chase (Grade 1)
END:VEVENT
END:VCALENDAR
