BEGIN:VCALENDAR
VERSION:2.0
PRODID:-//horsealert.local//NONSGML kigkonsult.se iCalcreator 2.10.5//
CALSCALE:GREGORIAN
X-WR-TIMEZONE:Europe/Dublin
BEGIN:VTIMEZONE
TZID:Etc/GMT-1
BEGIN:STANDARD
DTSTART:20010101T000000
TZOFFSETFROM:+0100
TZOFFSETTO:+0100
TZNAME:GMT +01:00
END:STANDARD
END:VTIMEZONE
BEGIN:VEVENT
UID:20260422T223710CEST-9798BwrRsL@horsealert.local
DTSTAMP:20260422T200410Z
CATEGORIES:Horse Alerts
DESCRIPTION:Mary Hickey Bishopstown Belated Birthday Bonanza Classified Cla
 iming Stakes
DTSTART:20160406T144000
LOCATION:England
SUMMARY:Horse Racing:Mary Hickey Bishopstown Belated Birthday Bonanza Class
 ified Claiming Stakes
END:VEVENT
END:VCALENDAR
