BEGIN:VCALENDAR
VERSION:2.0
PRODID:-//horsealert.local//NONSGML kigkonsult.se iCalcreator 2.10.5//
CALSCALE:GREGORIAN
X-WR-TIMEZONE:Europe/Dublin
BEGIN:VTIMEZONE
TZID:Etc/GMT-1
BEGIN:STANDARD
DTSTART:20010101T000000
TZOFFSETFROM:+0100
TZOFFSETTO:+0100
TZNAME:GMT +01:00
END:STANDARD
END:VTIMEZONE
BEGIN:VEVENT
UID:20260422T223915CEST-5735CumwVv@horsealert.local
DTSTAMP:20260422T200415Z
CATEGORIES:Horse Alerts
DESCRIPTION:Your Clubs Fundraiser At Fairyhouse\, Enquire Today Maiden Hurd
 le
DTSTART:20160405T144000
LOCATION:Eire
SUMMARY:Horse Racing:Your Clubs Fundraiser At Fairyhouse\, Enquire Today Ma
 iden Hurdle
END:VEVENT
END:VCALENDAR
