BEGIN:VCALENDAR
VERSION:2.0
PRODID:-//horsealert.local//NONSGML kigkonsult.se iCalcreator 2.10.5//
CALSCALE:GREGORIAN
X-WR-TIMEZONE:Europe/Dublin
BEGIN:VTIMEZONE
TZID:Etc/GMT-1
BEGIN:STANDARD
DTSTART:20010101T000000
TZOFFSETFROM:+0100
TZOFFSETTO:+0100
TZNAME:GMT +01:00
END:STANDARD
END:VTIMEZONE
BEGIN:VEVENT
UID:20260422T223623CEST-8528FivO2s@horsealert.local
DTSTAMP:20260422T200423Z
CATEGORIES:Horse Alerts
DESCRIPTION:David Brownlow Charitable Foundation Maiden Hurdle
DTSTART:20160403T140000
LOCATION:England
SUMMARY:Horse Racing:David Brownlow Charitable Foundation Maiden Hurdle
END:VEVENT
END:VCALENDAR
