BEGIN:VCALENDAR
VERSION:2.0
PRODID:-//horsealert.local//NONSGML kigkonsult.se iCalcreator 2.10.5//
CALSCALE:GREGORIAN
X-WR-TIMEZONE:Europe/Dublin
BEGIN:VTIMEZONE
TZID:Etc/GMT-1
BEGIN:STANDARD
DTSTART:20010101T000000
TZOFFSETFROM:+0100
TZOFFSETTO:+0100
TZNAME:GMT +01:00
END:STANDARD
END:VTIMEZONE
BEGIN:VEVENT
UID:20260422T223932CEST-60111CL8ju@horsealert.local
DTSTAMP:20260422T200432Z
CATEGORIES:Horse Alerts
DESCRIPTION:Coral.ie Bet 5 Get 20 In Free Bets European Breeders Fund Filli
 es Maiden (Plus 10)
DTSTART:20160403T144000
LOCATION:Eire
SUMMARY:Horse Racing:Coral.ie Bet 5 Get 20 In Free Bets European Breeders F
 und Fillies Maiden (Plus 10)
END:VEVENT
END:VCALENDAR
