BEGIN:VCALENDAR
VERSION:2.0
PRODID:-//horsealert.local//NONSGML kigkonsult.se iCalcreator 2.10.5//
CALSCALE:GREGORIAN
X-WR-TIMEZONE:Europe/Dublin
BEGIN:VTIMEZONE
TZID:Etc/GMT-1
BEGIN:STANDARD
DTSTART:20010101T000000
TZOFFSETFROM:+0100
TZOFFSETTO:+0100
TZNAME:GMT +01:00
END:STANDARD
END:VTIMEZONE
BEGIN:VEVENT
UID:20260422T223907CEST-4693Na53vr@horsealert.local
DTSTAMP:20260422T200407Z
CATEGORIES:Horse Alerts
DESCRIPTION:Harriet De-Vere Powell Apprentice Handicap (Go Racing In Yorksh
 ire Future Stars Apprentice Series) (Div 1)
DTSTART:20160402T174000
LOCATION:England
SUMMARY:Horse Racing:Harriet De-Vere Powell Apprentice Handicap (Go Racing 
 In Yorkshire Future Stars Apprentice Series) (Div 1)
END:VEVENT
END:VCALENDAR
