BEGIN:VCALENDAR
VERSION:2.0
PRODID:-//horsealert.local//NONSGML kigkonsult.se iCalcreator 2.10.5//
CALSCALE:GREGORIAN
X-WR-TIMEZONE:Europe/Dublin
BEGIN:VTIMEZONE
TZID:Etc/GMT-1
BEGIN:STANDARD
DTSTART:20010101T000000
TZOFFSETFROM:+0100
TZOFFSETTO:+0100
TZNAME:GMT +01:00
END:STANDARD
END:VTIMEZONE
BEGIN:VEVENT
UID:20260422T223930CEST-77939ekeO6@horsealert.local
DTSTAMP:20260422T200430Z
CATEGORIES:Horse Alerts
DESCRIPTION:1905 Club 'Hands And Heels' Novices' Handicap Hurdle (Cond/Amat
 eurs)
DTSTART:20160401T172000
LOCATION:England
SUMMARY:Horse Racing:1905 Club 'Hands And Heels' Novices' Handicap Hurdle (
 Cond/Amateurs)
END:VEVENT
END:VCALENDAR
