BEGIN:VCALENDAR
VERSION:2.0
PRODID:-//horsealert.local//NONSGML kigkonsult.se iCalcreator 2.10.5//
CALSCALE:GREGORIAN
X-WR-TIMEZONE:Europe/Dublin
BEGIN:VTIMEZONE
TZID:Etc/GMT-1
BEGIN:STANDARD
DTSTART:20010101T000000
TZOFFSETFROM:+0100
TZOFFSETTO:+0100
TZNAME:GMT +01:00
END:STANDARD
END:VTIMEZONE
BEGIN:VEVENT
UID:20260422T223712CEST-954060ZFfb@horsealert.local
DTSTAMP:20260422T200412Z
CATEGORIES:Horse Alerts
DESCRIPTION:Paddy Power Freephone Betting Open 24/7 On 08000 565 265 Maiden
DTSTART:20160401T203000
LOCATION:Eire
SUMMARY:Horse Racing:Paddy Power Freephone Betting Open 24/7 On 08000 565 2
 65 Maiden
END:VEVENT
END:VCALENDAR
